BEGIN:VCALENDAR
VERSION:2.0
PRODID:-//Wellington Soldiers Memorial Club - ECPv6.15.16.1//NONSGML v1.0//EN
CALSCALE:GREGORIAN
METHOD:PUBLISH
X-WR-CALNAME:Wellington Soldiers Memorial Club
X-ORIGINAL-URL:https://www.wellingtonsoldiers.com.au
X-WR-CALDESC:Events for Wellington Soldiers Memorial Club
REFRESH-INTERVAL;VALUE=DURATION:PT1H
X-Robots-Tag:noindex
X-PUBLISHED-TTL:PT1H
BEGIN:VTIMEZONE
TZID:Australia/Melbourne
BEGIN:STANDARD
TZOFFSETFROM:+1100
TZOFFSETTO:+1000
TZNAME:AEST
DTSTART:20250405T160000
END:STANDARD
BEGIN:DAYLIGHT
TZOFFSETFROM:+1000
TZOFFSETTO:+1100
TZNAME:AEDT
DTSTART:20251004T160000
END:DAYLIGHT
BEGIN:STANDARD
TZOFFSETFROM:+1100
TZOFFSETTO:+1000
TZNAME:AEST
DTSTART:20260404T160000
END:STANDARD
BEGIN:DAYLIGHT
TZOFFSETFROM:+1000
TZOFFSETTO:+1100
TZNAME:AEDT
DTSTART:20261003T160000
END:DAYLIGHT
BEGIN:STANDARD
TZOFFSETFROM:+1100
TZOFFSETTO:+1000
TZNAME:AEST
DTSTART:20270403T160000
END:STANDARD
BEGIN:DAYLIGHT
TZOFFSETFROM:+1000
TZOFFSETTO:+1100
TZNAME:AEDT
DTSTART:20271002T160000
END:DAYLIGHT
END:VTIMEZONE
BEGIN:VEVENT
DTSTART;TZID=Australia/Melbourne:20260421T180000
DTEND;TZID=Australia/Melbourne:20260421T180000
DTSTAMP:20260420T201728
CREATED:20230609T002249Z
LAST-MODIFIED:20230609T002249Z
UID:5796-1776794400-1776794400@www.wellingtonsoldiers.com.au
SUMMARY:Raffles
DESCRIPTION:Tuesday\, Friday & Sunday Nights from 6.00pm
URL:https://www.wellingtonsoldiers.com.au/event/member-raffle/2026-04-21/
CATEGORIES:Promotions,Raffles
ATTACH;FMTTYPE=image/jpeg:https://www.wellingtonsoldiers.com.au/wp-content/uploads/2023/06/Members-Cash-Draw-1156x875px-Wellington-Soldiers-V4.jpg
END:VEVENT
BEGIN:VEVENT
DTSTART;TZID=Australia/Melbourne:20260424T180000
DTEND;TZID=Australia/Melbourne:20260424T180000
DTSTAMP:20260420T201728
CREATED:20230609T002249Z
LAST-MODIFIED:20230609T002249Z
UID:5809-1777053600-1777053600@www.wellingtonsoldiers.com.au
SUMMARY:Raffles
DESCRIPTION:Tuesday\, Friday & Sunday Nights from 6.00pm
URL:https://www.wellingtonsoldiers.com.au/event/member-raffle/2026-04-24/
CATEGORIES:Promotions,Raffles
ATTACH;FMTTYPE=image/jpeg:https://www.wellingtonsoldiers.com.au/wp-content/uploads/2023/06/Members-Cash-Draw-1156x875px-Wellington-Soldiers-V4.jpg
END:VEVENT
BEGIN:VEVENT
DTSTART;TZID=Australia/Melbourne:20260426T180000
DTEND;TZID=Australia/Melbourne:20260426T180000
DTSTAMP:20260420T201728
CREATED:20230609T002249Z
LAST-MODIFIED:20230609T002249Z
UID:5817-1777226400-1777226400@www.wellingtonsoldiers.com.au
SUMMARY:Raffles
DESCRIPTION:Tuesday\, Friday & Sunday Nights from 6.00pm
URL:https://www.wellingtonsoldiers.com.au/event/member-raffle/2026-04-26/
CATEGORIES:Promotions,Raffles
ATTACH;FMTTYPE=image/jpeg:https://www.wellingtonsoldiers.com.au/wp-content/uploads/2023/06/Members-Cash-Draw-1156x875px-Wellington-Soldiers-V4.jpg
END:VEVENT
BEGIN:VEVENT
DTSTART;TZID=Australia/Melbourne:20260428T180000
DTEND;TZID=Australia/Melbourne:20260428T180000
DTSTAMP:20260420T201728
CREATED:20230609T002249Z
LAST-MODIFIED:20230609T002249Z
UID:5825-1777399200-1777399200@www.wellingtonsoldiers.com.au
SUMMARY:Raffles
DESCRIPTION:Tuesday\, Friday & Sunday Nights from 6.00pm
URL:https://www.wellingtonsoldiers.com.au/event/member-raffle/2026-04-28/
CATEGORIES:Promotions,Raffles
ATTACH;FMTTYPE=image/jpeg:https://www.wellingtonsoldiers.com.au/wp-content/uploads/2023/06/Members-Cash-Draw-1156x875px-Wellington-Soldiers-V4.jpg
END:VEVENT
BEGIN:VEVENT
DTSTART;TZID=Australia/Melbourne:20260501T180000
DTEND;TZID=Australia/Melbourne:20260501T180000
DTSTAMP:20260420T201728
CREATED:20230609T002249Z
LAST-MODIFIED:20230609T002249Z
UID:5834-1777658400-1777658400@www.wellingtonsoldiers.com.au
SUMMARY:Raffles
DESCRIPTION:Tuesday\, Friday & Sunday Nights from 6.00pm
URL:https://www.wellingtonsoldiers.com.au/event/member-raffle/2026-05-01/
CATEGORIES:Promotions,Raffles
ATTACH;FMTTYPE=image/jpeg:https://www.wellingtonsoldiers.com.au/wp-content/uploads/2023/06/Members-Cash-Draw-1156x875px-Wellington-Soldiers-V4.jpg
END:VEVENT
BEGIN:VEVENT
DTSTART;TZID=Australia/Melbourne:20260503T180000
DTEND;TZID=Australia/Melbourne:20260503T180000
DTSTAMP:20260420T201728
CREATED:20230609T002249Z
LAST-MODIFIED:20230609T002249Z
UID:5847-1777831200-1777831200@www.wellingtonsoldiers.com.au
SUMMARY:Raffles
DESCRIPTION:Tuesday\, Friday & Sunday Nights from 6.00pm
URL:https://www.wellingtonsoldiers.com.au/event/member-raffle/2026-05-03/
CATEGORIES:Promotions,Raffles
ATTACH;FMTTYPE=image/jpeg:https://www.wellingtonsoldiers.com.au/wp-content/uploads/2023/06/Members-Cash-Draw-1156x875px-Wellington-Soldiers-V4.jpg
END:VEVENT
BEGIN:VEVENT
DTSTART;TZID=Australia/Melbourne:20260505T180000
DTEND;TZID=Australia/Melbourne:20260505T180000
DTSTAMP:20260420T201728
CREATED:20230609T002249Z
LAST-MODIFIED:20230609T002249Z
UID:5855-1778004000-1778004000@www.wellingtonsoldiers.com.au
SUMMARY:Raffles
DESCRIPTION:Tuesday\, Friday & Sunday Nights from 6.00pm
URL:https://www.wellingtonsoldiers.com.au/event/member-raffle/2026-05-05/
CATEGORIES:Promotions,Raffles
ATTACH;FMTTYPE=image/jpeg:https://www.wellingtonsoldiers.com.au/wp-content/uploads/2023/06/Members-Cash-Draw-1156x875px-Wellington-Soldiers-V4.jpg
END:VEVENT
BEGIN:VEVENT
DTSTART;TZID=Australia/Melbourne:20260508T180000
DTEND;TZID=Australia/Melbourne:20260508T180000
DTSTAMP:20260420T201728
CREATED:20230609T002249Z
LAST-MODIFIED:20230609T002249Z
UID:5866-1778263200-1778263200@www.wellingtonsoldiers.com.au
SUMMARY:Raffles
DESCRIPTION:Tuesday\, Friday & Sunday Nights from 6.00pm
URL:https://www.wellingtonsoldiers.com.au/event/member-raffle/2026-05-08/
CATEGORIES:Promotions,Raffles
ATTACH;FMTTYPE=image/jpeg:https://www.wellingtonsoldiers.com.au/wp-content/uploads/2023/06/Members-Cash-Draw-1156x875px-Wellington-Soldiers-V4.jpg
END:VEVENT
BEGIN:VEVENT
DTSTART;TZID=Australia/Melbourne:20260510T180000
DTEND;TZID=Australia/Melbourne:20260510T180000
DTSTAMP:20260420T201728
CREATED:20230609T002249Z
LAST-MODIFIED:20230609T002249Z
UID:5874-1778436000-1778436000@www.wellingtonsoldiers.com.au
SUMMARY:Raffles
DESCRIPTION:Tuesday\, Friday & Sunday Nights from 6.00pm
URL:https://www.wellingtonsoldiers.com.au/event/member-raffle/2026-05-10/
CATEGORIES:Promotions,Raffles
ATTACH;FMTTYPE=image/jpeg:https://www.wellingtonsoldiers.com.au/wp-content/uploads/2023/06/Members-Cash-Draw-1156x875px-Wellington-Soldiers-V4.jpg
END:VEVENT
BEGIN:VEVENT
DTSTART;TZID=Australia/Melbourne:20260512T180000
DTEND;TZID=Australia/Melbourne:20260512T180000
DTSTAMP:20260420T201728
CREATED:20230609T002249Z
LAST-MODIFIED:20230609T002249Z
UID:5882-1778608800-1778608800@www.wellingtonsoldiers.com.au
SUMMARY:Raffles
DESCRIPTION:Tuesday\, Friday & Sunday Nights from 6.00pm
URL:https://www.wellingtonsoldiers.com.au/event/member-raffle/2026-05-12/
CATEGORIES:Promotions,Raffles
ATTACH;FMTTYPE=image/jpeg:https://www.wellingtonsoldiers.com.au/wp-content/uploads/2023/06/Members-Cash-Draw-1156x875px-Wellington-Soldiers-V4.jpg
END:VEVENT
BEGIN:VEVENT
DTSTART;TZID=Australia/Melbourne:20260515T180000
DTEND;TZID=Australia/Melbourne:20260515T180000
DTSTAMP:20260420T201728
CREATED:20230609T002249Z
LAST-MODIFIED:20230609T002249Z
UID:5891-1778868000-1778868000@www.wellingtonsoldiers.com.au
SUMMARY:Raffles
DESCRIPTION:Tuesday\, Friday & Sunday Nights from 6.00pm
URL:https://www.wellingtonsoldiers.com.au/event/member-raffle/2026-05-15/
CATEGORIES:Promotions,Raffles
ATTACH;FMTTYPE=image/jpeg:https://www.wellingtonsoldiers.com.au/wp-content/uploads/2023/06/Members-Cash-Draw-1156x875px-Wellington-Soldiers-V4.jpg
END:VEVENT
BEGIN:VEVENT
DTSTART;TZID=Australia/Melbourne:20260517T180000
DTEND;TZID=Australia/Melbourne:20260517T180000
DTSTAMP:20260420T201728
CREATED:20230609T002249Z
LAST-MODIFIED:20230609T002249Z
UID:5899-1779040800-1779040800@www.wellingtonsoldiers.com.au
SUMMARY:Raffles
DESCRIPTION:Tuesday\, Friday & Sunday Nights from 6.00pm
URL:https://www.wellingtonsoldiers.com.au/event/member-raffle/2026-05-17/
CATEGORIES:Promotions,Raffles
ATTACH;FMTTYPE=image/jpeg:https://www.wellingtonsoldiers.com.au/wp-content/uploads/2023/06/Members-Cash-Draw-1156x875px-Wellington-Soldiers-V4.jpg
END:VEVENT
BEGIN:VEVENT
DTSTART;TZID=Australia/Melbourne:20260519T180000
DTEND;TZID=Australia/Melbourne:20260519T180000
DTSTAMP:20260420T201728
CREATED:20230609T002249Z
LAST-MODIFIED:20230609T002249Z
UID:5907-1779213600-1779213600@www.wellingtonsoldiers.com.au
SUMMARY:Raffles
DESCRIPTION:Tuesday\, Friday & Sunday Nights from 6.00pm
URL:https://www.wellingtonsoldiers.com.au/event/member-raffle/2026-05-19/
CATEGORIES:Promotions,Raffles
ATTACH;FMTTYPE=image/jpeg:https://www.wellingtonsoldiers.com.au/wp-content/uploads/2023/06/Members-Cash-Draw-1156x875px-Wellington-Soldiers-V4.jpg
END:VEVENT
BEGIN:VEVENT
DTSTART;TZID=Australia/Melbourne:20260522T180000
DTEND;TZID=Australia/Melbourne:20260522T180000
DTSTAMP:20260420T201728
CREATED:20230609T002249Z
LAST-MODIFIED:20230609T002249Z
UID:5918-1779472800-1779472800@www.wellingtonsoldiers.com.au
SUMMARY:Raffles
DESCRIPTION:Tuesday\, Friday & Sunday Nights from 6.00pm
URL:https://www.wellingtonsoldiers.com.au/event/member-raffle/2026-05-22/
CATEGORIES:Promotions,Raffles
ATTACH;FMTTYPE=image/jpeg:https://www.wellingtonsoldiers.com.au/wp-content/uploads/2023/06/Members-Cash-Draw-1156x875px-Wellington-Soldiers-V4.jpg
END:VEVENT
BEGIN:VEVENT
DTSTART;TZID=Australia/Melbourne:20260524T180000
DTEND;TZID=Australia/Melbourne:20260524T180000
DTSTAMP:20260420T201728
CREATED:20230609T002249Z
LAST-MODIFIED:20230609T002249Z
UID:5931-1779645600-1779645600@www.wellingtonsoldiers.com.au
SUMMARY:Raffles
DESCRIPTION:Tuesday\, Friday & Sunday Nights from 6.00pm
URL:https://www.wellingtonsoldiers.com.au/event/member-raffle/2026-05-24/
CATEGORIES:Promotions,Raffles
ATTACH;FMTTYPE=image/jpeg:https://www.wellingtonsoldiers.com.au/wp-content/uploads/2023/06/Members-Cash-Draw-1156x875px-Wellington-Soldiers-V4.jpg
END:VEVENT
BEGIN:VEVENT
DTSTART;TZID=Australia/Melbourne:20260526T180000
DTEND;TZID=Australia/Melbourne:20260526T180000
DTSTAMP:20260420T201728
CREATED:20230609T002249Z
LAST-MODIFIED:20230609T002249Z
UID:5939-1779818400-1779818400@www.wellingtonsoldiers.com.au
SUMMARY:Raffles
DESCRIPTION:Tuesday\, Friday & Sunday Nights from 6.00pm
URL:https://www.wellingtonsoldiers.com.au/event/member-raffle/2026-05-26/
CATEGORIES:Promotions,Raffles
ATTACH;FMTTYPE=image/jpeg:https://www.wellingtonsoldiers.com.au/wp-content/uploads/2023/06/Members-Cash-Draw-1156x875px-Wellington-Soldiers-V4.jpg
END:VEVENT
BEGIN:VEVENT
DTSTART;TZID=Australia/Melbourne:20260529T180000
DTEND;TZID=Australia/Melbourne:20260529T180000
DTSTAMP:20260420T201728
CREATED:20230609T002249Z
LAST-MODIFIED:20230609T002249Z
UID:5952-1780077600-1780077600@www.wellingtonsoldiers.com.au
SUMMARY:Raffles
DESCRIPTION:Tuesday\, Friday & Sunday Nights from 6.00pm
URL:https://www.wellingtonsoldiers.com.au/event/member-raffle/2026-05-29/
CATEGORIES:Promotions,Raffles
ATTACH;FMTTYPE=image/jpeg:https://www.wellingtonsoldiers.com.au/wp-content/uploads/2023/06/Members-Cash-Draw-1156x875px-Wellington-Soldiers-V4.jpg
END:VEVENT
BEGIN:VEVENT
DTSTART;TZID=Australia/Melbourne:20260531T180000
DTEND;TZID=Australia/Melbourne:20260531T180000
DTSTAMP:20260420T201728
CREATED:20230609T002249Z
LAST-MODIFIED:20230609T002249Z
UID:5953-1780250400-1780250400@www.wellingtonsoldiers.com.au
SUMMARY:Raffles
DESCRIPTION:Tuesday\, Friday & Sunday Nights from 6.00pm
URL:https://www.wellingtonsoldiers.com.au/event/member-raffle/2026-05-31/
CATEGORIES:Promotions,Raffles
ATTACH;FMTTYPE=image/jpeg:https://www.wellingtonsoldiers.com.au/wp-content/uploads/2023/06/Members-Cash-Draw-1156x875px-Wellington-Soldiers-V4.jpg
END:VEVENT
BEGIN:VEVENT
DTSTART;TZID=Australia/Melbourne:20260602T180000
DTEND;TZID=Australia/Melbourne:20260602T180000
DTSTAMP:20260420T201728
CREATED:20230609T002249Z
LAST-MODIFIED:20230609T002249Z
UID:5966-1780423200-1780423200@www.wellingtonsoldiers.com.au
SUMMARY:Raffles
DESCRIPTION:Tuesday\, Friday & Sunday Nights from 6.00pm
URL:https://www.wellingtonsoldiers.com.au/event/member-raffle/2026-06-02/
CATEGORIES:Promotions,Raffles
ATTACH;FMTTYPE=image/jpeg:https://www.wellingtonsoldiers.com.au/wp-content/uploads/2023/06/Members-Cash-Draw-1156x875px-Wellington-Soldiers-V4.jpg
END:VEVENT
BEGIN:VEVENT
DTSTART;TZID=Australia/Melbourne:20260605T180000
DTEND;TZID=Australia/Melbourne:20260605T180000
DTSTAMP:20260420T201728
CREATED:20230609T002249Z
LAST-MODIFIED:20230609T002249Z
UID:5974-1780682400-1780682400@www.wellingtonsoldiers.com.au
SUMMARY:Raffles
DESCRIPTION:Tuesday\, Friday & Sunday Nights from 6.00pm
URL:https://www.wellingtonsoldiers.com.au/event/member-raffle/2026-06-05/
CATEGORIES:Promotions,Raffles
ATTACH;FMTTYPE=image/jpeg:https://www.wellingtonsoldiers.com.au/wp-content/uploads/2023/06/Members-Cash-Draw-1156x875px-Wellington-Soldiers-V4.jpg
END:VEVENT
BEGIN:VEVENT
DTSTART;TZID=Australia/Melbourne:20260607T180000
DTEND;TZID=Australia/Melbourne:20260607T180000
DTSTAMP:20260420T201728
CREATED:20230609T002249Z
LAST-MODIFIED:20230609T002249Z
UID:5981-1780855200-1780855200@www.wellingtonsoldiers.com.au
SUMMARY:Raffles
DESCRIPTION:Tuesday\, Friday & Sunday Nights from 6.00pm
URL:https://www.wellingtonsoldiers.com.au/event/member-raffle/2026-06-07/
CATEGORIES:Promotions,Raffles
ATTACH;FMTTYPE=image/jpeg:https://www.wellingtonsoldiers.com.au/wp-content/uploads/2023/06/Members-Cash-Draw-1156x875px-Wellington-Soldiers-V4.jpg
END:VEVENT
BEGIN:VEVENT
DTSTART;TZID=Australia/Melbourne:20260609T180000
DTEND;TZID=Australia/Melbourne:20260609T180000
DTSTAMP:20260420T201728
CREATED:20230609T002249Z
LAST-MODIFIED:20230609T002249Z
UID:5989-1781028000-1781028000@www.wellingtonsoldiers.com.au
SUMMARY:Raffles
DESCRIPTION:Tuesday\, Friday & Sunday Nights from 6.00pm
URL:https://www.wellingtonsoldiers.com.au/event/member-raffle/2026-06-09/
CATEGORIES:Promotions,Raffles
ATTACH;FMTTYPE=image/jpeg:https://www.wellingtonsoldiers.com.au/wp-content/uploads/2023/06/Members-Cash-Draw-1156x875px-Wellington-Soldiers-V4.jpg
END:VEVENT
BEGIN:VEVENT
DTSTART;TZID=Australia/Melbourne:20260612T180000
DTEND;TZID=Australia/Melbourne:20260612T180000
DTSTAMP:20260420T201728
CREATED:20230609T002249Z
LAST-MODIFIED:20230609T002249Z
UID:5998-1781287200-1781287200@www.wellingtonsoldiers.com.au
SUMMARY:Raffles
DESCRIPTION:Tuesday\, Friday & Sunday Nights from 6.00pm
URL:https://www.wellingtonsoldiers.com.au/event/member-raffle/2026-06-12/
CATEGORIES:Promotions,Raffles
ATTACH;FMTTYPE=image/jpeg:https://www.wellingtonsoldiers.com.au/wp-content/uploads/2023/06/Members-Cash-Draw-1156x875px-Wellington-Soldiers-V4.jpg
END:VEVENT
BEGIN:VEVENT
DTSTART;TZID=Australia/Melbourne:20260614T180000
DTEND;TZID=Australia/Melbourne:20260614T180000
DTSTAMP:20260420T201728
CREATED:20230609T002249Z
LAST-MODIFIED:20230609T002249Z
UID:6006-1781460000-1781460000@www.wellingtonsoldiers.com.au
SUMMARY:Raffles
DESCRIPTION:Tuesday\, Friday & Sunday Nights from 6.00pm
URL:https://www.wellingtonsoldiers.com.au/event/member-raffle/2026-06-14/
CATEGORIES:Promotions,Raffles
ATTACH;FMTTYPE=image/jpeg:https://www.wellingtonsoldiers.com.au/wp-content/uploads/2023/06/Members-Cash-Draw-1156x875px-Wellington-Soldiers-V4.jpg
END:VEVENT
BEGIN:VEVENT
DTSTART;TZID=Australia/Melbourne:20260616T180000
DTEND;TZID=Australia/Melbourne:20260616T180000
DTSTAMP:20260420T201728
CREATED:20230609T002249Z
LAST-MODIFIED:20230609T002249Z
UID:6020-1781632800-1781632800@www.wellingtonsoldiers.com.au
SUMMARY:Raffles
DESCRIPTION:Tuesday\, Friday & Sunday Nights from 6.00pm
URL:https://www.wellingtonsoldiers.com.au/event/member-raffle/2026-06-16/
CATEGORIES:Promotions,Raffles
ATTACH;FMTTYPE=image/jpeg:https://www.wellingtonsoldiers.com.au/wp-content/uploads/2023/06/Members-Cash-Draw-1156x875px-Wellington-Soldiers-V4.jpg
END:VEVENT
BEGIN:VEVENT
DTSTART;TZID=Australia/Melbourne:20260619T180000
DTEND;TZID=Australia/Melbourne:20260619T180000
DTSTAMP:20260420T201728
CREATED:20230609T002249Z
LAST-MODIFIED:20230609T002249Z
UID:6032-1781892000-1781892000@www.wellingtonsoldiers.com.au
SUMMARY:Raffles
DESCRIPTION:Tuesday\, Friday & Sunday Nights from 6.00pm
URL:https://www.wellingtonsoldiers.com.au/event/member-raffle/2026-06-19/
CATEGORIES:Promotions,Raffles
ATTACH;FMTTYPE=image/jpeg:https://www.wellingtonsoldiers.com.au/wp-content/uploads/2023/06/Members-Cash-Draw-1156x875px-Wellington-Soldiers-V4.jpg
END:VEVENT
BEGIN:VEVENT
DTSTART;TZID=Australia/Melbourne:20260621T180000
DTEND;TZID=Australia/Melbourne:20260621T180000
DTSTAMP:20260420T201728
CREATED:20230609T002249Z
LAST-MODIFIED:20230609T002249Z
UID:6040-1782064800-1782064800@www.wellingtonsoldiers.com.au
SUMMARY:Raffles
DESCRIPTION:Tuesday\, Friday & Sunday Nights from 6.00pm
URL:https://www.wellingtonsoldiers.com.au/event/member-raffle/2026-06-21/
CATEGORIES:Promotions,Raffles
ATTACH;FMTTYPE=image/jpeg:https://www.wellingtonsoldiers.com.au/wp-content/uploads/2023/06/Members-Cash-Draw-1156x875px-Wellington-Soldiers-V4.jpg
END:VEVENT
BEGIN:VEVENT
DTSTART;TZID=Australia/Melbourne:20260623T180000
DTEND;TZID=Australia/Melbourne:20260623T180000
DTSTAMP:20260420T201728
CREATED:20230609T002249Z
LAST-MODIFIED:20230609T002249Z
UID:6063-1782237600-1782237600@www.wellingtonsoldiers.com.au
SUMMARY:Raffles
DESCRIPTION:Tuesday\, Friday & Sunday Nights from 6.00pm
URL:https://www.wellingtonsoldiers.com.au/event/member-raffle/2026-06-23/
CATEGORIES:Promotions,Raffles
ATTACH;FMTTYPE=image/jpeg:https://www.wellingtonsoldiers.com.au/wp-content/uploads/2023/06/Members-Cash-Draw-1156x875px-Wellington-Soldiers-V4.jpg
END:VEVENT
BEGIN:VEVENT
DTSTART;TZID=Australia/Melbourne:20260626T180000
DTEND;TZID=Australia/Melbourne:20260626T180000
DTSTAMP:20260420T201728
CREATED:20230609T002249Z
LAST-MODIFIED:20230609T002249Z
UID:6083-1782496800-1782496800@www.wellingtonsoldiers.com.au
SUMMARY:Raffles
DESCRIPTION:Tuesday\, Friday & Sunday Nights from 6.00pm
URL:https://www.wellingtonsoldiers.com.au/event/member-raffle/2026-06-26/
CATEGORIES:Promotions,Raffles
ATTACH;FMTTYPE=image/jpeg:https://www.wellingtonsoldiers.com.au/wp-content/uploads/2023/06/Members-Cash-Draw-1156x875px-Wellington-Soldiers-V4.jpg
END:VEVENT
BEGIN:VEVENT
DTSTART;TZID=Australia/Melbourne:20260628T180000
DTEND;TZID=Australia/Melbourne:20260628T180000
DTSTAMP:20260420T201728
CREATED:20230609T002249Z
LAST-MODIFIED:20230609T002249Z
UID:6091-1782669600-1782669600@www.wellingtonsoldiers.com.au
SUMMARY:Raffles
DESCRIPTION:Tuesday\, Friday & Sunday Nights from 6.00pm
URL:https://www.wellingtonsoldiers.com.au/event/member-raffle/2026-06-28/
CATEGORIES:Promotions,Raffles
ATTACH;FMTTYPE=image/jpeg:https://www.wellingtonsoldiers.com.au/wp-content/uploads/2023/06/Members-Cash-Draw-1156x875px-Wellington-Soldiers-V4.jpg
END:VEVENT
END:VCALENDAR